BEGIN:VCALENDAR
VERSION:2.0
PRODID:-//Sunburst Ski Hill - ECPv6.15.12.2//NONSGML v1.0//EN
CALSCALE:GREGORIAN
METHOD:PUBLISH
X-WR-CALNAME:Sunburst Ski Hill
X-ORIGINAL-URL:https://skisunburst.com
X-WR-CALDESC:Events for Sunburst Ski Hill
REFRESH-INTERVAL;VALUE=DURATION:PT1H
X-Robots-Tag:noindex
X-PUBLISHED-TTL:PT1H
BEGIN:VTIMEZONE
TZID:America/Chicago
BEGIN:DAYLIGHT
TZOFFSETFROM:-0600
TZOFFSETTO:-0500
TZNAME:CDT
DTSTART:20220313T080000
END:DAYLIGHT
BEGIN:STANDARD
TZOFFSETFROM:-0500
TZOFFSETTO:-0600
TZNAME:CST
DTSTART:20221106T070000
END:STANDARD
BEGIN:DAYLIGHT
TZOFFSETFROM:-0600
TZOFFSETTO:-0500
TZNAME:CDT
DTSTART:20230312T080000
END:DAYLIGHT
BEGIN:STANDARD
TZOFFSETFROM:-0500
TZOFFSETTO:-0600
TZNAME:CST
DTSTART:20231105T070000
END:STANDARD
BEGIN:DAYLIGHT
TZOFFSETFROM:-0600
TZOFFSETTO:-0500
TZNAME:CDT
DTSTART:20240310T080000
END:DAYLIGHT
BEGIN:STANDARD
TZOFFSETFROM:-0500
TZOFFSETTO:-0600
TZNAME:CST
DTSTART:20241103T070000
END:STANDARD
BEGIN:DAYLIGHT
TZOFFSETFROM:-0600
TZOFFSETTO:-0500
TZNAME:CDT
DTSTART:20250309T080000
END:DAYLIGHT
BEGIN:STANDARD
TZOFFSETFROM:-0500
TZOFFSETTO:-0600
TZNAME:CST
DTSTART:20251102T070000
END:STANDARD
END:VTIMEZONE
BEGIN:VEVENT
DTSTART;TZID=America/Chicago:20240107T100000
DTEND;TZID=America/Chicago:20240107T120000
DTSTAMP:20260420T063708
CREATED:20231206T015215Z
LAST-MODIFIED:20231206T015215Z
UID:10000097-1704621600-1704628800@skisunburst.com
SUMMARY:CMSC RACE
DESCRIPTION:
URL:https://skisunburst.com/event/cmsc-race/
LOCATION:WI
ATTACH;FMTTYPE=image/png:https://skisunburst.com/wp-content/uploads/mmsc.png
END:VEVENT
BEGIN:VEVENT
DTSTART;TZID=America/Chicago:20240106T100000
DTEND;TZID=America/Chicago:20240106T120000
DTSTAMP:20260420T063708
CREATED:20231206T015113Z
LAST-MODIFIED:20231206T015113Z
UID:10000096-1704535200-1704542400@skisunburst.com
SUMMARY:MMSCR RACE
DESCRIPTION:
URL:https://skisunburst.com/event/mmscr-race/
LOCATION:WI
ATTACH;FMTTYPE=image/png:https://skisunburst.com/wp-content/uploads/mmsc.png
END:VEVENT
BEGIN:VEVENT
DTSTART;TZID=America/Chicago:20240105T170000
DTEND;TZID=America/Chicago:20240105T200000
DTSTAMP:20260420T063708
CREATED:20231204T141035Z
LAST-MODIFIED:20231204T141035Z
UID:10000091-1704474000-1704484800@skisunburst.com
SUMMARY:LIVE MUSIC AT THE HILL: Brett Gaertner
DESCRIPTION:
URL:https://skisunburst.com/event/live-music-at-the-hill-brett-gaertner/
LOCATION:WI
ATTACH;FMTTYPE=image/jpeg:https://skisunburst.com/wp-content/uploads/Brett-Gaertner.jpg
END:VEVENT
BEGIN:VEVENT
DTSTART;TZID=America/Chicago:20240103T180000
DTEND;TZID=America/Chicago:20240103T210000
DTSTAMP:20260420T063708
CREATED:20231206T013206Z
LAST-MODIFIED:20231206T013206Z
UID:10000095-1704304800-1704315600@skisunburst.com
SUMMARY:MHSSC RACE
DESCRIPTION:
URL:https://skisunburst.com/event/mhssc-race/
LOCATION:WI
ATTACH;FMTTYPE=image/jpeg:https://skisunburst.com/wp-content/uploads/mhssc.jpg
END:VEVENT
BEGIN:VEVENT
DTSTART;TZID=America/Chicago:20231231T210000
DTEND;TZID=America/Chicago:20231231T220000
DTSTAMP:20260420T063708
CREATED:20231206T011325Z
LAST-MODIFIED:20231206T011325Z
UID:10000093-1704056400-1704060000@skisunburst.com
SUMMARY:NEW YEARS EVE FIREWORKS
DESCRIPTION:
URL:https://skisunburst.com/event/new-years-eve-fireworks/
LOCATION:WI
ATTACH;FMTTYPE=image/jpeg:https://skisunburst.com/wp-content/uploads/Fireworks.jpeg
END:VEVENT
BEGIN:VEVENT
DTSTART;TZID=America/Chicago:20231229T170000
DTEND;TZID=America/Chicago:20231229T200000
DTSTAMP:20260420T063708
CREATED:20231206T012747Z
LAST-MODIFIED:20231206T012747Z
UID:10000094-1703869200-1703880000@skisunburst.com
SUMMARY:LIVE MUSIC AT THE HILL: 90'S JAKE
DESCRIPTION:
URL:https://skisunburst.com/event/live-music-at-the-hill-90s-jake/
LOCATION:WI
ATTACH;FMTTYPE=image/jpeg:https://skisunburst.com/wp-content/uploads/90S-JAKE.jpg
END:VEVENT
BEGIN:VEVENT
DTSTART;TZID=America/Chicago:20231224T093000
DTEND;TZID=America/Chicago:20231224T140000
DTSTAMP:20260420T063708
CREATED:20231206T005025Z
LAST-MODIFIED:20231206T005025Z
UID:10000092-1703410200-1703426400@skisunburst.com
SUMMARY:Santa Slalom
DESCRIPTION:
URL:https://skisunburst.com/event/santa-slalom-2/
LOCATION:WI
ATTACH;FMTTYPE=image/jpeg:https://skisunburst.com/wp-content/uploads/Santa-Slalom-2.jpg
END:VEVENT
BEGIN:VEVENT
DTSTART;TZID=America/Chicago:20231222T170000
DTEND;TZID=America/Chicago:20231222T200000
DTSTAMP:20260420T063708
CREATED:20231204T140706Z
LAST-MODIFIED:20231211T012039Z
UID:10000090-1703264400-1703275200@skisunburst.com
SUMMARY:LIVE MUSIC AT THE HILL: Paige Landrum
DESCRIPTION:
URL:https://skisunburst.com/event/live-music-at-the-hill-sam-rodewald-5/
LOCATION:WI
ATTACH;FMTTYPE=image/jpeg:https://skisunburst.com/wp-content/uploads/IMG_1359-scaled.jpeg
END:VEVENT
BEGIN:VEVENT
DTSTART;TZID=America/Chicago:20231215T170000
DTEND;TZID=America/Chicago:20231215T200000
DTSTAMP:20260420T063708
CREATED:20231204T140359Z
LAST-MODIFIED:20231204T140359Z
UID:10000088-1702659600-1702670400@skisunburst.com
SUMMARY:LIVE MUSIC AT THE HILL: Mister E!
DESCRIPTION:
URL:https://skisunburst.com/event/live-music-at-the-hill-mister-e/
LOCATION:WI
ATTACH;FMTTYPE=image/jpeg:https://skisunburst.com/wp-content/uploads/Mister-E.jpg
END:VEVENT
BEGIN:VEVENT
DTSTART;TZID=America/Chicago:20231208T170000
DTEND;TZID=America/Chicago:20231208T200000
DTSTAMP:20260420T063708
CREATED:20231204T140121Z
LAST-MODIFIED:20231204T140121Z
UID:10000087-1702054800-1702065600@skisunburst.com
SUMMARY:LIVE MUSIC AT THE HILL: Patrick Van Bibber
DESCRIPTION:
URL:https://skisunburst.com/event/live-music-at-the-hill-patrick-van-bibber/
LOCATION:WI
ATTACH;FMTTYPE=image/jpeg:https://skisunburst.com/wp-content/uploads/Van-Bibber.jpg
END:VEVENT
BEGIN:VEVENT
DTSTART;TZID=America/Chicago:20231205T080000
DTEND;TZID=America/Chicago:20231205T170000
DTSTAMP:20260420T063708
CREATED:20231206T020752Z
LAST-MODIFIED:20231206T020752Z
UID:10000104-1701763200-1701795600@skisunburst.com
SUMMARY:LIVE MUSIC AT THE HILL: ALY HAUSER
DESCRIPTION:
URL:https://skisunburst.com/event/live-music-at-the-hill-aly-hauser-7/
LOCATION:WI
ATTACH;FMTTYPE=image/jpeg:https://skisunburst.com/wp-content/uploads/ALY-HAUSER.jpg
END:VEVENT
BEGIN:VEVENT
DTSTART;TZID=America/Chicago:20231007T100000
DTEND;TZID=America/Chicago:20231007T140000
DTSTAMP:20260420T063708
CREATED:20230719T170400Z
LAST-MODIFIED:20230719T170400Z
UID:10000082-1696672800-1696687200@skisunburst.com
SUMMARY:2023 Ski Swap
DESCRIPTION:
URL:https://skisunburst.com/event/2023-ski-swap/
LOCATION:WI
ATTACH;FMTTYPE=image/jpeg:https://skisunburst.com/wp-content/uploads/SKI-SWAP-11x17.pdf-8.5-×-11-in.jpg
END:VEVENT
BEGIN:VEVENT
DTSTART;TZID=America/Chicago:20230930T180000
DTEND;TZID=America/Chicago:20230930T210000
DTSTAMP:20260420T063708
CREATED:20230912T200049Z
LAST-MODIFIED:20230912T200049Z
UID:10000086-1696096800-1696107600@skisunburst.com
SUMMARY:LIVE MUSIC AT THE HILL: WHITNEY ROSE
DESCRIPTION:
URL:https://skisunburst.com/event/live-music-at-the-hill-whitney-rose-3/
LOCATION:WI
ATTACH;FMTTYPE=image/jpeg:https://skisunburst.com/wp-content/uploads/Whitney-Rose_Sunburst.jpeg
END:VEVENT
BEGIN:VEVENT
DTSTART;TZID=America/Chicago:20230929T180000
DTEND;TZID=America/Chicago:20230929T210000
DTSTAMP:20260420T063708
CREATED:20230517T224852Z
LAST-MODIFIED:20230517T224852Z
UID:10000062-1696010400-1696021200@skisunburst.com
SUMMARY:Live Music at the Hill: Downtown Harrison
DESCRIPTION:Bar Open from 4 – 10pm
URL:https://skisunburst.com/event/live-music-at-the-hill-downtown-harrison-3/
LOCATION:WI
ATTACH;FMTTYPE=image/png:https://skisunburst.com/wp-content/uploads/Downtown-Harrison_Sunburst.png
END:VEVENT
BEGIN:VEVENT
DTSTART;TZID=America/Chicago:20230923T180000
DTEND;TZID=America/Chicago:20230923T210000
DTSTAMP:20260420T063708
CREATED:20230912T195818Z
LAST-MODIFIED:20230912T195818Z
UID:10000085-1695492000-1695502800@skisunburst.com
SUMMARY:LIVE MUSIC AT THE HILL: GOOD TIME DUTCHMAN
DESCRIPTION:
URL:https://skisunburst.com/event/live-music-at-the-hill-good-time-dutchman/
LOCATION:WI
ATTACH;FMTTYPE=image/jpeg:https://skisunburst.com/wp-content/uploads/277576569_4971277202962355_4967826121957990639_n.jpg
END:VEVENT
BEGIN:VEVENT
DTSTART;TZID=America/Chicago:20230922T180000
DTEND;TZID=America/Chicago:20230922T210000
DTSTAMP:20260420T063708
CREATED:20230517T224816Z
LAST-MODIFIED:20230719T170728Z
UID:10000061-1695405600-1695416400@skisunburst.com
SUMMARY:Live Music at the Hill: Doug Sheen
DESCRIPTION:Bar Open from 4-10 pm
URL:https://skisunburst.com/event/live-music-at-the-hill-doug-sheen-4/
LOCATION:WI
ATTACH;FMTTYPE=image/jpeg:https://skisunburst.com/wp-content/uploads/318639919_456318263333432_6422977018987622251_n.jpg
END:VEVENT
BEGIN:VEVENT
DTSTART;TZID=America/Chicago:20230916T180000
DTEND;TZID=America/Chicago:20230916T210000
DTSTAMP:20260420T063708
CREATED:20230912T195415Z
LAST-MODIFIED:20230912T195415Z
UID:10000084-1694887200-1694898000@skisunburst.com
SUMMARY:LIVE MUSIC AT THE HILL: JON ROUSE
DESCRIPTION:
URL:https://skisunburst.com/event/live-music-at-the-hill-jon-rouse/
LOCATION:WI
ATTACH;FMTTYPE=image/jpeg:https://skisunburst.com/wp-content/uploads/GroundFloowSummerfest-1018-e1556209501967-1.jpg
END:VEVENT
BEGIN:VEVENT
DTSTART;TZID=America/Chicago:20230916T160000
DTEND;TZID=America/Chicago:20230916T220000
DTSTAMP:20260420T063708
CREATED:20230912T195208Z
LAST-MODIFIED:20230912T195208Z
UID:10000083-1694880000-1694901600@skisunburst.com
SUMMARY:Sunburst Cruise In
DESCRIPTION:
URL:https://skisunburst.com/event/sunburst-cruise-in-2/
LOCATION:WI
ATTACH;FMTTYPE=image/jpeg:https://skisunburst.com/wp-content/uploads/365747916_667697782069276_7704077948279703915_n.jpg
END:VEVENT
BEGIN:VEVENT
DTSTART;TZID=America/Chicago:20230915T180000
DTEND;TZID=America/Chicago:20230915T210000
DTSTAMP:20260420T063708
CREATED:20230517T224631Z
LAST-MODIFIED:20230517T224631Z
UID:10000060-1694800800-1694811600@skisunburst.com
SUMMARY:Live Music at the Hill: Aly Hauser
DESCRIPTION:Bar open 4:00 pm – 10:00 pm
URL:https://skisunburst.com/event/live-music-at-the-hill-aly-hauser-5/
LOCATION:WI
ATTACH;FMTTYPE=image/jpeg:https://skisunburst.com/wp-content/uploads/Aly-Hauser_Sunburst.jpeg
END:VEVENT
BEGIN:VEVENT
DTSTART;TZID=America/Chicago:20230901T180000
DTEND;TZID=America/Chicago:20230901T210000
DTSTAMP:20260420T063708
CREATED:20230517T224537Z
LAST-MODIFIED:20230517T224537Z
UID:10000059-1693591200-1693602000@skisunburst.com
SUMMARY:Live Music at the Hill: Josh from Sinatra to the 60s
DESCRIPTION:Bar Open from 4 – 10pm
URL:https://skisunburst.com/event/live-music-at-the-hill-josh-from-sinatra-to-the-60s-2/
LOCATION:WI
ATTACH;FMTTYPE=image/png:https://skisunburst.com/wp-content/uploads/Josh-from-Sinatra-to-the-60s_Sunburst.png
END:VEVENT
BEGIN:VEVENT
DTSTART;TZID=America/Chicago:20230818T180000
DTEND;TZID=America/Chicago:20230818T210000
DTSTAMP:20260420T063708
CREATED:20230517T224446Z
LAST-MODIFIED:20230518T132702Z
UID:10000058-1692381600-1692392400@skisunburst.com
SUMMARY:Live Music at the Hill: Sam Rodewald
DESCRIPTION:Bar Open from 4-10 pm
URL:https://skisunburst.com/event/live-music-at-the-hill-sam-rodewald-3/
LOCATION:WI
ATTACH;FMTTYPE=image/jpeg:https://skisunburst.com/wp-content/uploads/Sam-Rodewald_Sunburst.jpeg
END:VEVENT
BEGIN:VEVENT
DTSTART;TZID=America/Chicago:20230811T180000
DTEND;TZID=America/Chicago:20230811T210000
DTSTAMP:20260420T063708
CREATED:20230517T224346Z
LAST-MODIFIED:20230517T224346Z
UID:10000057-1691776800-1691787600@skisunburst.com
SUMMARY:Live Music at the Hill: Downtown Harrison
DESCRIPTION:Bar Open from 4 – 10pm
URL:https://skisunburst.com/event/live-music-at-the-hill-downtown-harrison-2/
LOCATION:WI
ATTACH;FMTTYPE=image/png:https://skisunburst.com/wp-content/uploads/Downtown-Harrison_Sunburst.png
END:VEVENT
BEGIN:VEVENT
DTSTART;TZID=America/Chicago:20230805T160000
DTEND;TZID=America/Chicago:20230805T220000
DTSTAMP:20260420T063708
CREATED:20230719T142747Z
LAST-MODIFIED:20230719T142747Z
UID:10000081-1691251200-1691272800@skisunburst.com
SUMMARY:Sunburst Cruise In
DESCRIPTION:Bring your favorite car or bike and show it off at the First Sunburst Cruise IN.  Live Music by Micah Olsan\, Burgers\, Brats\, and Beer
URL:https://skisunburst.com/event/sunburst-cruise-in/
LOCATION:WI
ATTACH;FMTTYPE=application/pdf:https://skisunburst.com/wp-content/uploads/SUNBURST-CRUISE-IN.pdf
END:VEVENT
BEGIN:VEVENT
DTSTART;TZID=America/Chicago:20230804T180000
DTEND;TZID=America/Chicago:20230804T210000
DTSTAMP:20260420T063708
CREATED:20230517T224257Z
LAST-MODIFIED:20230517T224257Z
UID:10000056-1691172000-1691182800@skisunburst.com
SUMMARY:Live Music at the Hill: Aly Hauser
DESCRIPTION:Bar Open from 4-10 pm
URL:https://skisunburst.com/event/live-music-at-the-hill-aly-hauser-4/
LOCATION:WI
ATTACH;FMTTYPE=image/jpeg:https://skisunburst.com/wp-content/uploads/Aly-Hauser_Sunburst-1.jpeg
END:VEVENT
BEGIN:VEVENT
DTSTART;TZID=America/Chicago:20230729T180000
DTEND;TZID=America/Chicago:20230729T210000
DTSTAMP:20260420T063708
CREATED:20230706T143933Z
LAST-MODIFIED:20230706T143933Z
UID:10000080-1690653600-1690664400@skisunburst.com
SUMMARY:Live Music at the Hill: Whitney Rose
DESCRIPTION:Bar Open from 4 – 10pm
URL:https://skisunburst.com/event/live-music-at-the-hill-whitney-rose-2/
LOCATION:WI
ATTACH;FMTTYPE=image/jpeg:https://skisunburst.com/wp-content/uploads/Whitney-Rose_Sunburst.jpeg
END:VEVENT
BEGIN:VEVENT
DTSTART;TZID=America/Chicago:20230728T180000
DTEND;TZID=America/Chicago:20230728T210000
DTSTAMP:20260420T063708
CREATED:20230517T224102Z
LAST-MODIFIED:20230627T195652Z
UID:10000054-1690567200-1690578000@skisunburst.com
SUMMARY:Live Music at the Hill: Micah Olsan
DESCRIPTION:Bar Open from 4-10 pm
URL:https://skisunburst.com/event/live-music-at-the-hill-micah-olsan-2/
LOCATION:WI
ATTACH;FMTTYPE=image/jpeg:https://skisunburst.com/wp-content/uploads/315540460_671653634462889_8245722640111210702_n.jpg
END:VEVENT
BEGIN:VEVENT
DTSTART;TZID=America/Chicago:20230722T180000
DTEND;TZID=America/Chicago:20230722T210000
DTSTAMP:20260420T063708
CREATED:20230628T191304Z
LAST-MODIFIED:20230706T144033Z
UID:10000079-1690048800-1690059600@skisunburst.com
SUMMARY:Live Music at the Hill: Whitney Rose
DESCRIPTION:Bar Open from 4 – 10pm
URL:https://skisunburst.com/event/live-music-at-the-hill-whitney-rose/
LOCATION:WI
ATTACH;FMTTYPE=image/jpeg:https://skisunburst.com/wp-content/uploads/Whitney-Rose_Sunburst.jpeg
END:VEVENT
BEGIN:VEVENT
DTSTART;TZID=America/Chicago:20230721T180000
DTEND;TZID=America/Chicago:20230721T210000
DTSTAMP:20260420T063708
CREATED:20230517T223916Z
LAST-MODIFIED:20230517T223916Z
UID:10000053-1689962400-1689973200@skisunburst.com
SUMMARY:Live Music at the Hill: Downtown Harrison
DESCRIPTION:Bar Open from 4 – 10pm
URL:https://skisunburst.com/event/live-music-at-the-hill-downtown-harrison/
LOCATION:WI
ATTACH;FMTTYPE=image/png:https://skisunburst.com/wp-content/uploads/Downtown-Harrison_Sunburst.png
END:VEVENT
BEGIN:VEVENT
DTSTART;TZID=America/Chicago:20230715T180000
DTEND;TZID=America/Chicago:20230715T210000
DTSTAMP:20260420T063708
CREATED:20230628T191132Z
LAST-MODIFIED:20230628T191132Z
UID:10000078-1689444000-1689454800@skisunburst.com
SUMMARY:Live Music at the Hill: Sam Rodewald
DESCRIPTION:Bar Open from 4-10 pm
URL:https://skisunburst.com/event/live-music-at-the-hill-sam-rodewald-4/
LOCATION:WI
ATTACH;FMTTYPE=image/jpeg:https://skisunburst.com/wp-content/uploads/Sam-Rodewald_Sunburst.jpeg
END:VEVENT
BEGIN:VEVENT
DTSTART;TZID=America/Chicago:20230714T180000
DTEND;TZID=America/Chicago:20230714T210000
DTSTAMP:20260420T063708
CREATED:20230517T223823Z
LAST-MODIFIED:20230517T223823Z
UID:10000052-1689357600-1689368400@skisunburst.com
SUMMARY:Live Music at the Hill: Aly Hauser
DESCRIPTION:Bar Open from 4-10 pm
URL:https://skisunburst.com/event/live-music-at-the-hill-aly-hauser-3/
LOCATION:WI
ATTACH;FMTTYPE=image/jpeg:https://skisunburst.com/wp-content/uploads/Aly-Hauser_Sunburst-1.jpeg
END:VEVENT
END:VCALENDAR