BEGIN:VCALENDAR
VERSION:2.0
PRODID:-//Sunburst Ski Hill - ECPv6.15.12.2//NONSGML v1.0//EN
CALSCALE:GREGORIAN
METHOD:PUBLISH
X-WR-CALNAME:Sunburst Ski Hill
X-ORIGINAL-URL:https://skisunburst.com
X-WR-CALDESC:Events for Sunburst Ski Hill
REFRESH-INTERVAL;VALUE=DURATION:PT1H
X-Robots-Tag:noindex
X-PUBLISHED-TTL:PT1H
BEGIN:VTIMEZONE
TZID:America/Chicago
BEGIN:DAYLIGHT
TZOFFSETFROM:-0600
TZOFFSETTO:-0500
TZNAME:CDT
DTSTART:20220313T080000
END:DAYLIGHT
BEGIN:STANDARD
TZOFFSETFROM:-0500
TZOFFSETTO:-0600
TZNAME:CST
DTSTART:20221106T070000
END:STANDARD
BEGIN:DAYLIGHT
TZOFFSETFROM:-0600
TZOFFSETTO:-0500
TZNAME:CDT
DTSTART:20230312T080000
END:DAYLIGHT
BEGIN:STANDARD
TZOFFSETFROM:-0500
TZOFFSETTO:-0600
TZNAME:CST
DTSTART:20231105T070000
END:STANDARD
BEGIN:DAYLIGHT
TZOFFSETFROM:-0600
TZOFFSETTO:-0500
TZNAME:CDT
DTSTART:20240310T080000
END:DAYLIGHT
BEGIN:STANDARD
TZOFFSETFROM:-0500
TZOFFSETTO:-0600
TZNAME:CST
DTSTART:20241103T070000
END:STANDARD
END:VTIMEZONE
BEGIN:VEVENT
DTSTART;TZID=America/Chicago:20230915T180000
DTEND;TZID=America/Chicago:20230915T210000
DTSTAMP:20260422T132145
CREATED:20230517T224631Z
LAST-MODIFIED:20230517T224631Z
UID:10000060-1694800800-1694811600@skisunburst.com
SUMMARY:Live Music at the Hill: Aly Hauser
DESCRIPTION:Bar open 4:00 pm – 10:00 pm
URL:https://skisunburst.com/event/live-music-at-the-hill-aly-hauser-5/
ATTACH;FMTTYPE=image/jpeg:https://skisunburst.com/wp-content/uploads/Aly-Hauser_Sunburst.jpeg
END:VEVENT
BEGIN:VEVENT
DTSTART;TZID=America/Chicago:20230901T180000
DTEND;TZID=America/Chicago:20230901T210000
DTSTAMP:20260422T132145
CREATED:20230517T224537Z
LAST-MODIFIED:20230517T224537Z
UID:10000059-1693591200-1693602000@skisunburst.com
SUMMARY:Live Music at the Hill: Josh from Sinatra to the 60s
DESCRIPTION:Bar Open from 4 – 10pm
URL:https://skisunburst.com/event/live-music-at-the-hill-josh-from-sinatra-to-the-60s-2/
ATTACH;FMTTYPE=image/png:https://skisunburst.com/wp-content/uploads/Josh-from-Sinatra-to-the-60s_Sunburst.png
END:VEVENT
BEGIN:VEVENT
DTSTART;TZID=America/Chicago:20230818T180000
DTEND;TZID=America/Chicago:20230818T210000
DTSTAMP:20260422T132145
CREATED:20230517T224446Z
LAST-MODIFIED:20230518T132702Z
UID:10000058-1692381600-1692392400@skisunburst.com
SUMMARY:Live Music at the Hill: Sam Rodewald
DESCRIPTION:Bar Open from 4-10 pm
URL:https://skisunburst.com/event/live-music-at-the-hill-sam-rodewald-3/
ATTACH;FMTTYPE=image/jpeg:https://skisunburst.com/wp-content/uploads/Sam-Rodewald_Sunburst.jpeg
END:VEVENT
BEGIN:VEVENT
DTSTART;TZID=America/Chicago:20230811T180000
DTEND;TZID=America/Chicago:20230811T210000
DTSTAMP:20260422T132145
CREATED:20230517T224346Z
LAST-MODIFIED:20230517T224346Z
UID:10000057-1691776800-1691787600@skisunburst.com
SUMMARY:Live Music at the Hill: Downtown Harrison
DESCRIPTION:Bar Open from 4 – 10pm
URL:https://skisunburst.com/event/live-music-at-the-hill-downtown-harrison-2/
ATTACH;FMTTYPE=image/png:https://skisunburst.com/wp-content/uploads/Downtown-Harrison_Sunburst.png
END:VEVENT
BEGIN:VEVENT
DTSTART;TZID=America/Chicago:20230805T160000
DTEND;TZID=America/Chicago:20230805T220000
DTSTAMP:20260422T132145
CREATED:20230719T142747Z
LAST-MODIFIED:20230719T142747Z
UID:10000081-1691251200-1691272800@skisunburst.com
SUMMARY:Sunburst Cruise In
DESCRIPTION:Bring your favorite car or bike and show it off at the First Sunburst Cruise IN.  Live Music by Micah Olsan\, Burgers\, Brats\, and Beer
URL:https://skisunburst.com/event/sunburst-cruise-in/
ATTACH;FMTTYPE=application/pdf:https://skisunburst.com/wp-content/uploads/SUNBURST-CRUISE-IN.pdf
END:VEVENT
BEGIN:VEVENT
DTSTART;TZID=America/Chicago:20230804T180000
DTEND;TZID=America/Chicago:20230804T210000
DTSTAMP:20260422T132145
CREATED:20230517T224257Z
LAST-MODIFIED:20230517T224257Z
UID:10000056-1691172000-1691182800@skisunburst.com
SUMMARY:Live Music at the Hill: Aly Hauser
DESCRIPTION:Bar Open from 4-10 pm
URL:https://skisunburst.com/event/live-music-at-the-hill-aly-hauser-4/
ATTACH;FMTTYPE=image/jpeg:https://skisunburst.com/wp-content/uploads/Aly-Hauser_Sunburst-1.jpeg
END:VEVENT
BEGIN:VEVENT
DTSTART;TZID=America/Chicago:20230729T180000
DTEND;TZID=America/Chicago:20230729T210000
DTSTAMP:20260422T132145
CREATED:20230706T143933Z
LAST-MODIFIED:20230706T143933Z
UID:10000080-1690653600-1690664400@skisunburst.com
SUMMARY:Live Music at the Hill: Whitney Rose
DESCRIPTION:Bar Open from 4 – 10pm
URL:https://skisunburst.com/event/live-music-at-the-hill-whitney-rose-2/
ATTACH;FMTTYPE=image/jpeg:https://skisunburst.com/wp-content/uploads/Whitney-Rose_Sunburst.jpeg
END:VEVENT
BEGIN:VEVENT
DTSTART;TZID=America/Chicago:20230728T180000
DTEND;TZID=America/Chicago:20230728T210000
DTSTAMP:20260422T132145
CREATED:20230517T224102Z
LAST-MODIFIED:20230627T195652Z
UID:10000054-1690567200-1690578000@skisunburst.com
SUMMARY:Live Music at the Hill: Micah Olsan
DESCRIPTION:Bar Open from 4-10 pm
URL:https://skisunburst.com/event/live-music-at-the-hill-micah-olsan-2/
ATTACH;FMTTYPE=image/jpeg:https://skisunburst.com/wp-content/uploads/315540460_671653634462889_8245722640111210702_n.jpg
END:VEVENT
BEGIN:VEVENT
DTSTART;TZID=America/Chicago:20230722T180000
DTEND;TZID=America/Chicago:20230722T210000
DTSTAMP:20260422T132145
CREATED:20230628T191304Z
LAST-MODIFIED:20230706T144033Z
UID:10000079-1690048800-1690059600@skisunburst.com
SUMMARY:Live Music at the Hill: Whitney Rose
DESCRIPTION:Bar Open from 4 – 10pm
URL:https://skisunburst.com/event/live-music-at-the-hill-whitney-rose/
ATTACH;FMTTYPE=image/jpeg:https://skisunburst.com/wp-content/uploads/Whitney-Rose_Sunburst.jpeg
END:VEVENT
BEGIN:VEVENT
DTSTART;TZID=America/Chicago:20230721T180000
DTEND;TZID=America/Chicago:20230721T210000
DTSTAMP:20260422T132145
CREATED:20230517T223916Z
LAST-MODIFIED:20230517T223916Z
UID:10000053-1689962400-1689973200@skisunburst.com
SUMMARY:Live Music at the Hill: Downtown Harrison
DESCRIPTION:Bar Open from 4 – 10pm
URL:https://skisunburst.com/event/live-music-at-the-hill-downtown-harrison/
ATTACH;FMTTYPE=image/png:https://skisunburst.com/wp-content/uploads/Downtown-Harrison_Sunburst.png
END:VEVENT
BEGIN:VEVENT
DTSTART;TZID=America/Chicago:20230715T180000
DTEND;TZID=America/Chicago:20230715T210000
DTSTAMP:20260422T132145
CREATED:20230628T191132Z
LAST-MODIFIED:20230628T191132Z
UID:10000078-1689444000-1689454800@skisunburst.com
SUMMARY:Live Music at the Hill: Sam Rodewald
DESCRIPTION:Bar Open from 4-10 pm
URL:https://skisunburst.com/event/live-music-at-the-hill-sam-rodewald-4/
ATTACH;FMTTYPE=image/jpeg:https://skisunburst.com/wp-content/uploads/Sam-Rodewald_Sunburst.jpeg
END:VEVENT
BEGIN:VEVENT
DTSTART;TZID=America/Chicago:20230714T180000
DTEND;TZID=America/Chicago:20230714T210000
DTSTAMP:20260422T132145
CREATED:20230517T223823Z
LAST-MODIFIED:20230517T223823Z
UID:10000052-1689357600-1689368400@skisunburst.com
SUMMARY:Live Music at the Hill: Aly Hauser
DESCRIPTION:Bar Open from 4-10 pm
URL:https://skisunburst.com/event/live-music-at-the-hill-aly-hauser-3/
ATTACH;FMTTYPE=image/jpeg:https://skisunburst.com/wp-content/uploads/Aly-Hauser_Sunburst-1.jpeg
END:VEVENT
BEGIN:VEVENT
DTSTART;TZID=America/Chicago:20230708T180000
DTEND;TZID=America/Chicago:20230708T210000
DTSTAMP:20260422T132145
CREATED:20230627T195537Z
LAST-MODIFIED:20230627T195537Z
UID:10000077-1688839200-1688850000@skisunburst.com
SUMMARY:LIVE MUSIC AT THE HILL: DRIVING BUDDIES
DESCRIPTION:BAR OPEN 4 PM -10 PM
URL:https://skisunburst.com/event/live-music-at-the-hill-driving-buddies-3/
ATTACH;FMTTYPE=image/jpeg:https://skisunburst.com/wp-content/uploads/Driving-Buddies_photo.jpeg
END:VEVENT
BEGIN:VEVENT
DTSTART;TZID=America/Chicago:20230707T180000
DTEND;TZID=America/Chicago:20230707T210000
DTSTAMP:20260422T132145
CREATED:20230627T194843Z
LAST-MODIFIED:20230627T195344Z
UID:10000076-1688752800-1688763600@skisunburst.com
SUMMARY:LIVE MUSIC AT THE HILL: DRIVING BUDDIES
DESCRIPTION:
URL:https://skisunburst.com/event/live-music-at-the-hill-driving-buddies-2/
ATTACH;FMTTYPE=image/jpeg:https://skisunburst.com/wp-content/uploads/Driving-Buddies_photo.jpeg
END:VEVENT
BEGIN:VEVENT
DTSTART;TZID=America/Chicago:20230623T180000
DTEND;TZID=America/Chicago:20230623T210000
DTSTAMP:20260422T132145
CREATED:20230518T133205Z
LAST-MODIFIED:20230518T133205Z
UID:10000074-1687543200-1687554000@skisunburst.com
SUMMARY:Live Music at the Hill: Paul Bronson
DESCRIPTION:Bar Open from 4-10 pm
URL:https://skisunburst.com/event/live-music-at-the-hill-paul-bronson/
ATTACH;FMTTYPE=image/jpeg:https://skisunburst.com/wp-content/uploads/Paul-Bronson_Sunburst.jpeg
END:VEVENT
BEGIN:VEVENT
DTSTART;TZID=America/Chicago:20230618T120000
DTEND;TZID=America/Chicago:20230618T160000
DTSTAMP:20260422T132145
CREATED:20230605T164927Z
LAST-MODIFIED:20230614T155254Z
UID:10000075-1687089600-1687104000@skisunburst.com
SUMMARY:39th Annual Father's Day Hill Climb
DESCRIPTION:Join Sunburst and Kettle Moraine Sports Riders for the 39th annual Father’s Day Hill Climb! Watch as seasoned riders attempt to scale the steepest run of the ski hill. Celebrate dad with a day of revving\, food & beverages\, and fun at Sunburst. \nAdmission $10\, kids under 12 are FREE. First bike climbs the hill at noon.
URL:https://skisunburst.com/event/39th-annual-fathers-day-hill-climb/
ATTACH;FMTTYPE=image/jpeg:https://skisunburst.com/wp-content/uploads/Hill-Climb-Event-Photos.jpg
END:VEVENT
BEGIN:VEVENT
DTSTART;TZID=America/Chicago:20230616T180000
DTEND;TZID=America/Chicago:20230616T210000
DTSTAMP:20260422T132145
CREATED:20230517T223311Z
LAST-MODIFIED:20230517T223453Z
UID:10000050-1686938400-1686949200@skisunburst.com
SUMMARY:Live Music at the Hill: Aly Hauser
DESCRIPTION:Bar Open from 4-10 pm
URL:https://skisunburst.com/event/live-music-at-the-hill-aly-hauser-2/
ATTACH;FMTTYPE=image/jpeg:https://skisunburst.com/wp-content/uploads/Aly-Hauser_Sunburst-1.jpeg
END:VEVENT
BEGIN:VEVENT
DTSTART;TZID=America/Chicago:20230609T180000
DTEND;TZID=America/Chicago:20230609T210000
DTSTAMP:20260422T132145
CREATED:20230517T223123Z
LAST-MODIFIED:20230518T132834Z
UID:10000049-1686333600-1686344400@skisunburst.com
SUMMARY:Live Music at the Hill: Sam Rodewald
DESCRIPTION:Bar Open from 4-10 pm
URL:https://skisunburst.com/event/live-music-at-the-hill-sam-rodewald-2/
ATTACH;FMTTYPE=image/jpeg:https://skisunburst.com/wp-content/uploads/Sam-Rodewald_Sunburst.jpeg
END:VEVENT
BEGIN:VEVENT
DTSTART;TZID=America/Chicago:20230603T180000
DTEND;TZID=America/Chicago:20230603T210000
DTSTAMP:20260422T132145
CREATED:20230517T223005Z
LAST-MODIFIED:20230517T223005Z
UID:10000048-1685815200-1685826000@skisunburst.com
SUMMARY:Live Music at the Hill: Doug Sheen
DESCRIPTION:Bar Open from 4-10 pm
URL:https://skisunburst.com/event/live-music-at-the-hill-doug-sheen-2/
END:VEVENT
BEGIN:VEVENT
DTSTART;TZID=America/Chicago:20230602T180000
DTEND;TZID=America/Chicago:20230602T210000
DTSTAMP:20260422T132145
CREATED:20230517T222848Z
LAST-MODIFIED:20230518T132922Z
UID:10000047-1685728800-1685739600@skisunburst.com
SUMMARY:Live Music at the Hill: Driving Buddies
DESCRIPTION:Bar Open from 4-10 pm
URL:https://skisunburst.com/event/live-music-at-the-hill-driving-buddies/
ATTACH;FMTTYPE=image/jpeg:https://skisunburst.com/wp-content/uploads/Driving-Buddies_photo.jpeg
END:VEVENT
BEGIN:VEVENT
DTSTART;TZID=America/Chicago:20230526T180000
DTEND;TZID=America/Chicago:20230526T210000
DTSTAMP:20260422T132145
CREATED:20230508T183238Z
LAST-MODIFIED:20230508T183238Z
UID:10000045-1685124000-1685134800@skisunburst.com
SUMMARY:Live Music at the Hill: Sam Rodewald
DESCRIPTION:Bar Open from 4 – 10pm
URL:https://skisunburst.com/event/live-music-at-the-hill-sam-rodewald/
ATTACH;FMTTYPE=image/jpeg:https://skisunburst.com/wp-content/uploads/Sam-Rodewald_Sunburst.jpeg
END:VEVENT
BEGIN:VEVENT
DTSTART;TZID=America/Chicago:20230520T180000
DTEND;TZID=America/Chicago:20230520T210000
DTSTAMP:20260422T132145
CREATED:20230508T183116Z
LAST-MODIFIED:20230508T190518Z
UID:10000044-1684605600-1684616400@skisunburst.com
SUMMARY:Karaoke
DESCRIPTION:Bar Open from 4 – 10pm
URL:https://skisunburst.com/event/karaoke-2/
ATTACH;FMTTYPE=image/jpeg:https://skisunburst.com/wp-content/uploads/Island-Karaoke_Sunburst.jpg
END:VEVENT
BEGIN:VEVENT
DTSTART;TZID=America/Chicago:20230519T180000
DTEND;TZID=America/Chicago:20230519T210000
DTSTAMP:20260422T132145
CREATED:20230508T182944Z
LAST-MODIFIED:20230508T183305Z
UID:10000043-1684519200-1684530000@skisunburst.com
SUMMARY:Live Music at the Hill: Downtown Harrison
DESCRIPTION:Bar Open from 4 – 10pm
URL:https://skisunburst.com/event/downtown-harrison/
ATTACH;FMTTYPE=image/png:https://skisunburst.com/wp-content/uploads/Downtown-Harrison_Sunburst.png
END:VEVENT
BEGIN:VEVENT
DTSTART;TZID=America/Chicago:20230513T180000
DTEND;TZID=America/Chicago:20230513T210000
DTSTAMP:20260422T132145
CREATED:20230508T182754Z
LAST-MODIFIED:20230508T190538Z
UID:10000042-1684000800-1684011600@skisunburst.com
SUMMARY:Karaoke
DESCRIPTION:Bar Open from 4 – 10pm
URL:https://skisunburst.com/event/karaoke/
ATTACH;FMTTYPE=image/jpeg:https://skisunburst.com/wp-content/uploads/Island-Karaoke_Sunburst.jpg
END:VEVENT
BEGIN:VEVENT
DTSTART;TZID=America/Chicago:20230512T180000
DTEND;TZID=America/Chicago:20230512T210000
DTSTAMP:20260422T132145
CREATED:20230508T182645Z
LAST-MODIFIED:20230508T182645Z
UID:10000041-1683914400-1683925200@skisunburst.com
SUMMARY:Live Music at the Hill: Josh from Sinatra to the 60s
DESCRIPTION:Bar Open from 4 – 10pm
URL:https://skisunburst.com/event/live-music-at-the-hill-josh-from-sinatra-to-the-60s/
ATTACH;FMTTYPE=image/png:https://skisunburst.com/wp-content/uploads/Josh-from-Sinatra-to-the-60s_Sunburst.png
END:VEVENT
BEGIN:VEVENT
DTSTART;TZID=America/Chicago:20230505T180000
DTEND;TZID=America/Chicago:20230505T210000
DTSTAMP:20260422T132145
CREATED:20230505T142207Z
LAST-MODIFIED:20230505T142207Z
UID:10000040-1683309600-1683320400@skisunburst.com
SUMMARY:Live Music at the Hill: Aly Hauser
DESCRIPTION:Bar open 4:00 pm – 10:00 pm
URL:https://skisunburst.com/event/live-music-at-the-hill-aly-hauser/
ATTACH;FMTTYPE=image/jpeg:https://skisunburst.com/wp-content/uploads/Aly-Hauser_Sunburst.jpeg
END:VEVENT
BEGIN:VEVENT
DTSTART;TZID=America/Chicago:20230305T100000
DTEND;TZID=America/Chicago:20230305T140000
DTSTAMP:20260422T132145
CREATED:20230222T172603Z
LAST-MODIFIED:20230227T145733Z
UID:10000039-1678010400-1678024800@skisunburst.com
SUMMARY:Sunburst Invitational Charity Race
DESCRIPTION:Grab your racing gear and join us for the Sunburst Invitational! We’re having a BIG bash to celebrate our awesome customers. Meet us at the hill for a 3-in-1 celebration with this fun-filled event! With live entertainment\, the Sunburst Invitational\, and the Pond Skim and Firehose Race to follow\, there are lots of memories to make. \nEvent Schedule \n\n\n\nEvent\nTime\nCost\n\n\nInvitational Race\n10:00am – 2:00pm\n$20 Registration + Lift Ticket\n\n\nPond Skim\n2:00pm – 4:00pm\nFREE with lift ticket\n\n\nFirehose Race\nRace to follow Sunburst Invitational\n$20 per participant + Lift Ticket*\n*Must be registered for the Sunburst Invitational to participate in the Firehose Race.\n\n\n\nWant to sign up for the invitational? Register here for just $20 and add your lift ticket for an additional $29 (if you’re not a season pass holder). Registration is open online now and onsite the day of the event\, but we strongly encourage you to pre-register to save your spot in the race! \nOnce you’re done\, join us for the Firehose Race with your crew. Teams of four will race down the hill while holding a firehose — the ultimate test in agility and teamwork! Reserve your spot for $20 per participant. Each participant must register for the Sunburst Invitational as a racer. Teams can sign up for the Firehose Race in the Group Sales office. \nAll proceeds from the Sunburst Invitational will go to the Mercier family following the loss of a beloved family member\, Ryan Mercier. Sunburst has employed many Merciers over the years and considers them part of the Sunburst family. Funds will be dedicated to furthering the education of the Mercier children. Please join us in supporting this wonderful family. \nRegister now: https://shop.sunbursttransf.wpenginepowered.com/racing
URL:https://skisunburst.com/event/sunburst-invitational-charity-race/
ATTACH;FMTTYPE=image/jpeg:https://skisunburst.com/wp-content/uploads/20230212_100037-scaled.jpg
END:VEVENT
BEGIN:VEVENT
DTSTART;TZID=America/Chicago:20230305T093000
DTEND;TZID=America/Chicago:20230305T160000
DTSTAMP:20260422T132145
CREATED:20221028T170608Z
LAST-MODIFIED:20230227T145857Z
UID:10000014-1678008600-1678032000@skisunburst.com
SUMMARY:Customer Appreciation Day / Pond Skim
DESCRIPTION:Enjoy a taste of late winter fun with our Pond Skim! We’re having a BIG bash to celebrate our awesome customers. Meet us at the hill for a 3-in-1 celebration with this fun-filled event! With live entertainment\, the Sunburst Invitational\, and the Pond Skim and Firehose Race to follow\, there are lots of memories to make. \nEvent Schedule \n\n\n\nEvent\nTime\nCost\n\n\nInvitational Race\n10:00am – 2:00pm\n$20 Registration + Lift Ticket\n\n\nPond Skim\n2:00pm – 4:00pm\nFREE with lift ticket\n\n\nFirehose Race\nRace to follow Sunburst Invitational\n$20 per participant + Lift Ticket*\n*Must be registered for the Sunburst Invitational to participate in the Firehose Race\n\n\n\nGrab your skis or snowboard and head down Edelweisss to skim across an 80-foot pool of water. It’s the perfect way to enjoy a taste of winter fun as we welcome spring. The Pond Skim is FREE for all participants (all you need is a lift ticket)\, so join us at the hill and carve up some water! \nAll proceeds from the Sunburst Invitational will go to the Mercier family following the loss of a beloved family member\, Ryan Mercier. Sunburst has employed many Merciers over the years and considers them part of the Sunburst family. Funds will be dedicated to furthering the education of the Mercier children. Please join us in supporting this wonderful family.
URL:https://skisunburst.com/event/customer-appreciation-day-pond-skim/
ATTACH;FMTTYPE=image/png:https://skisunburst.com/wp-content/uploads/Screenshot-2023-02-22-111337.png
END:VEVENT
BEGIN:VEVENT
DTSTART;TZID=America/Chicago:20230226T140000
DTEND;TZID=America/Chicago:20230226T160000
DTSTAMP:20260422T132145
CREATED:20230201T014859Z
LAST-MODIFIED:20230205T160432Z
UID:10000029-1677420000-1677427200@skisunburst.com
SUMMARY:Live Music at the Hill: Lola Blu
DESCRIPTION:
URL:https://skisunburst.com/event/live-music-at-the-hill-lola-blu/
ATTACH;FMTTYPE=image/png:https://skisunburst.com/wp-content/uploads/Lola-Blu-Photo.png
END:VEVENT
BEGIN:VEVENT
DTSTART;TZID=America/Chicago:20230225T170000
DTEND;TZID=America/Chicago:20230225T200000
DTSTAMP:20260422T132145
CREATED:20230201T015123Z
LAST-MODIFIED:20230201T015123Z
UID:10000031-1677344400-1677355200@skisunburst.com
SUMMARY:Live Music at the Hill: Elite Karaoke
DESCRIPTION:
URL:https://skisunburst.com/event/live-music-at-the-hill-elite-karaoke-3/
ATTACH;FMTTYPE=image/jpeg:https://skisunburst.com/wp-content/uploads/elite-karaoke.jpg
END:VEVENT
END:VCALENDAR